BEGIN:VCALENDAR
VERSION:2.0
PRODID:-//C3 Collaborative - ECPv6.15.17.1//NONSGML v1.0//EN
CALSCALE:GREGORIAN
METHOD:PUBLISH
X-ORIGINAL-URL:https://c3collaborative.org
X-WR-CALDESC:Events for C3 Collaborative
REFRESH-INTERVAL;VALUE=DURATION:PT1H
X-Robots-Tag:noindex
X-PUBLISHED-TTL:PT1H
BEGIN:VTIMEZONE
TZID:America/New_York
BEGIN:DAYLIGHT
TZOFFSETFROM:-0500
TZOFFSETTO:-0400
TZNAME:EDT
DTSTART:20240310T070000
END:DAYLIGHT
BEGIN:STANDARD
TZOFFSETFROM:-0400
TZOFFSETTO:-0500
TZNAME:EST
DTSTART:20241103T060000
END:STANDARD
BEGIN:DAYLIGHT
TZOFFSETFROM:-0500
TZOFFSETTO:-0400
TZNAME:EDT
DTSTART:20250309T070000
END:DAYLIGHT
BEGIN:STANDARD
TZOFFSETFROM:-0400
TZOFFSETTO:-0500
TZNAME:EST
DTSTART:20251102T060000
END:STANDARD
BEGIN:DAYLIGHT
TZOFFSETFROM:-0500
TZOFFSETTO:-0400
TZNAME:EDT
DTSTART:20260308T070000
END:DAYLIGHT
BEGIN:STANDARD
TZOFFSETFROM:-0400
TZOFFSETTO:-0500
TZNAME:EST
DTSTART:20261101T060000
END:STANDARD
END:VTIMEZONE
BEGIN:VEVENT
DTSTART;TZID=America/New_York:20251006T140000
DTEND;TZID=America/New_York:20251006T150000
DTSTAMP:20260423T122158
CREATED:20241125T140656Z
LAST-MODIFIED:20250922T182749Z
UID:1164-1759759200-1759762800@c3collaborative.org
SUMMARY:Advocacy Essentials for Nonprofit Professionals
DESCRIPTION:Trainers: Housing Alliance of PA\nHost: C3 = Bucks-Mont Collaborative\, Interagency Council of Norristown\, and Tri-County Community Network
URL:https://c3collaborative.org/event/advocacy-essentials-for-nonprofit-professionals/
LOCATION:Virtual Zoom
CATEGORIES:Advocacy
ATTACH;FMTTYPE=image/jpeg:https://c3collaborative.org/wp-content/uploads/2024/11/Advocacy-Essentials_2-Trainings.jpg
END:VEVENT
END:VCALENDAR