BEGIN:VCALENDAR
VERSION:2.0
PRODID:-//C3 Collaborative - ECPv6.15.17.1//NONSGML v1.0//EN
CALSCALE:GREGORIAN
METHOD:PUBLISH
X-ORIGINAL-URL:https://c3collaborative.org
X-WR-CALDESC:Events for C3 Collaborative
REFRESH-INTERVAL;VALUE=DURATION:PT1H
X-Robots-Tag:noindex
X-PUBLISHED-TTL:PT1H
BEGIN:VTIMEZONE
TZID:America/New_York
BEGIN:DAYLIGHT
TZOFFSETFROM:-0500
TZOFFSETTO:-0400
TZNAME:EDT
DTSTART:20230312T070000
END:DAYLIGHT
BEGIN:STANDARD
TZOFFSETFROM:-0400
TZOFFSETTO:-0500
TZNAME:EST
DTSTART:20231105T060000
END:STANDARD
BEGIN:DAYLIGHT
TZOFFSETFROM:-0500
TZOFFSETTO:-0400
TZNAME:EDT
DTSTART:20240310T070000
END:DAYLIGHT
BEGIN:STANDARD
TZOFFSETFROM:-0400
TZOFFSETTO:-0500
TZNAME:EST
DTSTART:20241103T060000
END:STANDARD
BEGIN:DAYLIGHT
TZOFFSETFROM:-0500
TZOFFSETTO:-0400
TZNAME:EDT
DTSTART:20250309T070000
END:DAYLIGHT
BEGIN:STANDARD
TZOFFSETFROM:-0400
TZOFFSETTO:-0500
TZNAME:EST
DTSTART:20251102T060000
END:STANDARD
END:VTIMEZONE
BEGIN:VEVENT
DTSTART;TZID=America/New_York:20241210T100000
DTEND;TZID=America/New_York:20241210T113000
DTSTAMP:20260422T055350
CREATED:20240726T020103Z
LAST-MODIFIED:20241125T164543Z
UID:639-1733824800-1733830200@c3collaborative.org
SUMMARY:AI Essentials for Nonprofits: Tools\, Trends\, and Impact
DESCRIPTION:Description\nTrainer: Kelly Cockshaw\, Director of Leadership and Innovation\, Chester County United Way \nHost: C3 (Bucks-Mont Collaborative\, Interagency Council of Norristown\, and Tri-County Community Network)
URL:https://c3collaborative.org/event/ai-essentials-for-nonprofits-tools-trends-and-impact/
LOCATION:Virtual Zoom
CATEGORIES:Training Institute
ATTACH;FMTTYPE=image/jpeg:https://c3collaborative.org/wp-content/uploads/2024/07/unnamed.jpg
END:VEVENT
END:VCALENDAR