BEGIN:VCALENDAR
VERSION:2.0
PRODID:-//C3 Collaborative - ECPv6.15.17.1//NONSGML v1.0//EN
CALSCALE:GREGORIAN
METHOD:PUBLISH
X-ORIGINAL-URL:https://c3collaborative.org
X-WR-CALDESC:Events for C3 Collaborative
REFRESH-INTERVAL;VALUE=DURATION:PT1H
X-Robots-Tag:noindex
X-PUBLISHED-TTL:PT1H
BEGIN:VTIMEZONE
TZID:America/New_York
BEGIN:DAYLIGHT
TZOFFSETFROM:-0500
TZOFFSETTO:-0400
TZNAME:EDT
DTSTART:20250309T070000
END:DAYLIGHT
BEGIN:STANDARD
TZOFFSETFROM:-0400
TZOFFSETTO:-0500
TZNAME:EST
DTSTART:20251102T060000
END:STANDARD
BEGIN:DAYLIGHT
TZOFFSETFROM:-0500
TZOFFSETTO:-0400
TZNAME:EDT
DTSTART:20260308T070000
END:DAYLIGHT
BEGIN:STANDARD
TZOFFSETFROM:-0400
TZOFFSETTO:-0500
TZNAME:EST
DTSTART:20261101T060000
END:STANDARD
BEGIN:DAYLIGHT
TZOFFSETFROM:-0500
TZOFFSETTO:-0400
TZNAME:EDT
DTSTART:20270314T070000
END:DAYLIGHT
BEGIN:STANDARD
TZOFFSETFROM:-0400
TZOFFSETTO:-0500
TZNAME:EST
DTSTART:20271107T060000
END:STANDARD
END:VTIMEZONE
BEGIN:VEVENT
DTSTART;TZID=America/New_York:20260106T120000
DTEND;TZID=America/New_York:20260106T130000
DTSTAMP:20260421T073148
CREATED:20251211T195656Z
LAST-MODIFIED:20251211T195656Z
UID:1901-1767700800-1767704400@c3collaborative.org
SUMMARY:What the New PA Budget Means for Health & Human Services
DESCRIPTION:
URL:https://c3collaborative.org/event/what-the-new-pa-budget-means-for-health-human-services/
LOCATION:Virtual Zoom
CATEGORIES:Training Institute
ATTACH;FMTTYPE=image/jpeg:https://c3collaborative.org/wp-content/uploads/2025/12/01.06.26-Draft-Flyer.jpg
END:VEVENT
END:VCALENDAR