BEGIN:VCALENDAR
VERSION:2.0
PRODID:-//C3 Collaborative - ECPv6.15.17.1//NONSGML v1.0//EN
CALSCALE:GREGORIAN
METHOD:PUBLISH
X-WR-CALNAME:C3 Collaborative
X-ORIGINAL-URL:https://c3collaborative.org
X-WR-CALDESC:Events for C3 Collaborative
REFRESH-INTERVAL;VALUE=DURATION:PT1H
X-Robots-Tag:noindex
X-PUBLISHED-TTL:PT1H
BEGIN:VTIMEZONE
TZID:America/New_York
BEGIN:DAYLIGHT
TZOFFSETFROM:-0500
TZOFFSETTO:-0400
TZNAME:EDT
DTSTART:20250309T070000
END:DAYLIGHT
BEGIN:STANDARD
TZOFFSETFROM:-0400
TZOFFSETTO:-0500
TZNAME:EST
DTSTART:20251102T060000
END:STANDARD
BEGIN:DAYLIGHT
TZOFFSETFROM:-0500
TZOFFSETTO:-0400
TZNAME:EDT
DTSTART:20260308T070000
END:DAYLIGHT
BEGIN:STANDARD
TZOFFSETFROM:-0400
TZOFFSETTO:-0500
TZNAME:EST
DTSTART:20261101T060000
END:STANDARD
BEGIN:DAYLIGHT
TZOFFSETFROM:-0500
TZOFFSETTO:-0400
TZNAME:EDT
DTSTART:20270314T070000
END:DAYLIGHT
BEGIN:STANDARD
TZOFFSETFROM:-0400
TZOFFSETTO:-0500
TZNAME:EST
DTSTART:20271107T060000
END:STANDARD
END:VTIMEZONE
BEGIN:VEVENT
DTSTART;TZID=America/New_York:20260224T100000
DTEND;TZID=America/New_York:20260224T113000
DTSTAMP:20260423T045623
CREATED:20260114T202028Z
LAST-MODIFIED:20260115T160215Z
UID:2191-1771927200-1771932600@c3collaborative.org
SUMMARY:Panel Discussion: Having More Productive Conversations With Foundations and Grant Funders
DESCRIPTION:
URL:https://c3collaborative.org/event/panel-discussion-having-more-productive-conversations-with-foundations-and-grant-funders/
LOCATION:Virtual Zoom
CATEGORIES:Training Institute
ATTACH;FMTTYPE=image/jpeg:https://c3collaborative.org/wp-content/uploads/2026/01/Productive-Conversations-Foundations-Panel.jpg
END:VEVENT
END:VCALENDAR